BEGIN:VCALENDAR
VERSION:2.0
PRODID:-// - ECPv6.15.20//NONSGML v1.0//EN
CALSCALE:GREGORIAN
METHOD:PUBLISH
X-ORIGINAL-URL:https://downtownvillarica.com
X-WR-CALDESC:Events for 
REFRESH-INTERVAL;VALUE=DURATION:PT1H
X-Robots-Tag:noindex
X-PUBLISHED-TTL:PT1H
BEGIN:VTIMEZONE
TZID:UTC
BEGIN:STANDARD
TZOFFSETFROM:+0000
TZOFFSETTO:+0000
TZNAME:UTC
DTSTART:20170101T000000
END:STANDARD
END:VTIMEZONE
BEGIN:VEVENT
DTSTART;TZID=UTC:20180808T113000
DTEND;TZID=UTC:20180808T130000
DTSTAMP:20260420T033424
CREATED:20180206T183817Z
LAST-MODIFIED:20180726T144213Z
UID:1424-1533727800-1533733200@downtownvillarica.com
SUMMARY:Villa Rica Leadership Luncheon
DESCRIPTION:Villa Rica Leadership Luncheon featuring Scott K. Cowart\, Superintendent\, Carroll County School System  \nThe Villa Rica Leadership Luncheon Series brings together executives\, entrepreneurs\, educational leaders and innovators from throughout the region to discuss trends\, challenges and opportunities facing their respective fields. Open to the public\, the Leadership Luncheon Series is held bi-monthly on the 2nd Wednesday at 11:30 a.m. at The Venue in Downtown Villa Rica\, Georgia. \nFor more information on how to become a sponsor\, contact the Villa Rica Office of Economic Development at 678-840-1160. Website: www.DowntownVillaRica.com \nSpeaker: Scott K. Cowart\, Superintendent\, Carroll County School System \nDate: Wednesday\, August 8\, 2018 \nTime: 11:30am-1:00pm\n11:30am – Networking\n12:00pm – Lunch begins\n12:15pm – Welcome\, Speaker\n12:50pm – Wrap-up\, Networking \nLocation: The Venue | 150 Stone St\, Villa Rica\, GA 30180 \nCost: Open to the public: $22.00 Main Street Discount Card Holder | $27.00 Non-Main Street Discount Card Holder | $180 Table (8 Tickets). \nFor More Information: Villa Rica Office of Economic Development – 678-840-1160
URL:https://downtownvillarica.com/event/1424/
LOCATION:The Venue\, 150 Stone Street\, Villa Rica\, GA\, 30180\, United States
CATEGORIES:Business,Networking
ATTACH;FMTTYPE=image/png:https://downtownvillarica.com/wp-content/uploads/2018/02/Scott-Cowart-August-2018-v2-002.png
END:VEVENT
END:VCALENDAR