BEGIN:VCALENDAR
VERSION:2.0
PRODID:-// - ECPv6.15.20//NONSGML v1.0//EN
CALSCALE:GREGORIAN
METHOD:PUBLISH
X-ORIGINAL-URL:https://downtownvillarica.com
X-WR-CALDESC:Events for 
REFRESH-INTERVAL;VALUE=DURATION:PT1H
X-Robots-Tag:noindex
X-PUBLISHED-TTL:PT1H
BEGIN:VTIMEZONE
TZID:UTC
BEGIN:STANDARD
TZOFFSETFROM:+0000
TZOFFSETTO:+0000
TZNAME:UTC
DTSTART:20240101T000000
END:STANDARD
END:VTIMEZONE
BEGIN:VEVENT
DTSTART;TZID=UTC:20250315T170000
DTEND;TZID=UTC:20250315T200000
DTSTAMP:20260421T095800
CREATED:20250129T155254Z
LAST-MODIFIED:20250129T155254Z
UID:7082-1742058000-1742068800@downtownvillarica.com
SUMMARY:Golden City Cruisers
DESCRIPTION:Setup begins at 3:30pm
URL:https://downtownvillarica.com/event/golden-city-cruisers/
LOCATION:The MILL Amphitheater\, 106 Temple Street\, Villa Rica\, GA\, 30180
END:VEVENT
END:VCALENDAR