BEGIN:VCALENDAR
VERSION:2.0
PRODID:-// - ECPv6.15.20//NONSGML v1.0//EN
CALSCALE:GREGORIAN
METHOD:PUBLISH
X-ORIGINAL-URL:https://downtownvillarica.com
X-WR-CALDESC:Events for 
REFRESH-INTERVAL;VALUE=DURATION:PT1H
X-Robots-Tag:noindex
X-PUBLISHED-TTL:PT1H
BEGIN:VTIMEZONE
TZID:UTC
BEGIN:STANDARD
TZOFFSETFROM:+0000
TZOFFSETTO:+0000
TZNAME:UTC
DTSTART:20230101T000000
END:STANDARD
END:VTIMEZONE
BEGIN:VEVENT
DTSTART;TZID=UTC:20241123T103000
DTEND;TZID=UTC:20241123T190000
DTSTAMP:20260425T124157
CREATED:20240930T153712Z
LAST-MODIFIED:20241112T161055Z
UID:7010-1732357800-1732388400@downtownvillarica.com
SUMMARY:Christmas On Main
DESCRIPTION:Christmas On Main \nThe Mill Amphitheater • 12PM-7PM \n• One Mile Fun Run (Egg Nog Jog) at 12PM \n• Reindeer 5K Run at 12:30PM \n• Christmas Parade 5PM \n• Mistletoe Market is f rom 2-7PM \n• Photos with Santa 6PM \n• Tree lighting at 7PM
URL:https://downtownvillarica.com/event/christmas-on-main-2/
LOCATION:The MILL Amphitheater\, 106 Temple Street\, Villa Rica\, GA\, 30180
ATTACH;FMTTYPE=image/png:https://downtownvillarica.com/wp-content/uploads/2024/09/Christmas-on-Main-2.png
END:VEVENT
END:VCALENDAR