BEGIN:VCALENDAR
VERSION:2.0
PRODID:-// - ECPv6.15.20//NONSGML v1.0//EN
CALSCALE:GREGORIAN
METHOD:PUBLISH
X-ORIGINAL-URL:https://downtownvillarica.com
X-WR-CALDESC:Events for 
REFRESH-INTERVAL;VALUE=DURATION:PT1H
X-Robots-Tag:noindex
X-PUBLISHED-TTL:PT1H
BEGIN:VTIMEZONE
TZID:UTC
BEGIN:STANDARD
TZOFFSETFROM:+0000
TZOFFSETTO:+0000
TZNAME:UTC
DTSTART:20230101T000000
END:STANDARD
END:VTIMEZONE
BEGIN:VEVENT
DTSTART;TZID=UTC:20241111T110000
DTEND;TZID=UTC:20241111T120000
DTSTAMP:20260423T095522
CREATED:20240930T152911Z
LAST-MODIFIED:20240930T152916Z
UID:7005-1731322800-1731326400@downtownvillarica.com
SUMMARY:Veteran's Day Ceremony
DESCRIPTION:Honoring All Who Served
URL:https://downtownvillarica.com/event/veterans-day-ceremony/
LOCATION:The MILL Amphitheater\, 106 Temple Street\, Villa Rica\, GA\, 30180
ATTACH;FMTTYPE=image/png:https://downtownvillarica.com/wp-content/uploads/2024/09/Veterans-web-event.png
END:VEVENT
END:VCALENDAR