BEGIN:VCALENDAR
VERSION:2.0
PRODID:-// - ECPv6.15.20//NONSGML v1.0//EN
CALSCALE:GREGORIAN
METHOD:PUBLISH
X-ORIGINAL-URL:https://downtownvillarica.com
X-WR-CALDESC:Events for 
REFRESH-INTERVAL;VALUE=DURATION:PT1H
X-Robots-Tag:noindex
X-PUBLISHED-TTL:PT1H
BEGIN:VTIMEZONE
TZID:UTC
BEGIN:STANDARD
TZOFFSETFROM:+0000
TZOFFSETTO:+0000
TZNAME:UTC
DTSTART:20230101T000000
END:STANDARD
END:VTIMEZONE
BEGIN:VEVENT
DTSTART;TZID=UTC:20240821T081500
DTEND;TZID=UTC:20240821T093000
DTSTAMP:20260421T095820
CREATED:20240819T181421Z
LAST-MODIFIED:20240819T181421Z
UID:6901-1724228100-1724232600@downtownvillarica.com
SUMMARY:Rise-n-Shine
DESCRIPTION:Come and join us for our monthly Rise-n-Shine gathering! If you’re a Villa Rica business looking to get plugged into the community for 2024\, come and meet new people and local business owners. Rise-n-Shine normally takes place the third Wednesday of the month at The Olive Tree in historic Downtown Villa Rica. \nNetworking begins at 8:15 am and includes light refreshments and door prizes! Don’t miss it! \nThis is a free event!
URL:https://downtownvillarica.com/event/rise-n-shine-3/
LOCATION:The Olive Tree\, 150 Stone St\, Villa Rica\, GA\, 30180\, United States
CATEGORIES:Networking
ATTACH;FMTTYPE=image/jpeg:https://downtownvillarica.com/wp-content/uploads/2019/02/rise-and-shine-sun.jpg
END:VEVENT
END:VCALENDAR